BEGIN:VCALENDAR
VERSION:2.0
PRODID:-//SETF - ECPv6.15.20//NONSGML v1.0//EN
CALSCALE:GREGORIAN
METHOD:PUBLISH
X-ORIGINAL-URL:https://setf.ngo
X-WR-CALDESC:Events for SETF
REFRESH-INTERVAL;VALUE=DURATION:PT1H
X-Robots-Tag:noindex
X-PUBLISHED-TTL:PT1H
BEGIN:VTIMEZONE
TZID:America/Halifax
BEGIN:DAYLIGHT
TZOFFSETFROM:-0400
TZOFFSETTO:-0300
TZNAME:ADT
DTSTART:20210314T060000
END:DAYLIGHT
BEGIN:STANDARD
TZOFFSETFROM:-0300
TZOFFSETTO:-0400
TZNAME:AST
DTSTART:20211107T050000
END:STANDARD
BEGIN:DAYLIGHT
TZOFFSETFROM:-0400
TZOFFSETTO:-0300
TZNAME:ADT
DTSTART:20220313T060000
END:DAYLIGHT
BEGIN:STANDARD
TZOFFSETFROM:-0300
TZOFFSETTO:-0400
TZNAME:AST
DTSTART:20221106T050000
END:STANDARD
BEGIN:DAYLIGHT
TZOFFSETFROM:-0400
TZOFFSETTO:-0300
TZNAME:ADT
DTSTART:20230312T060000
END:DAYLIGHT
BEGIN:STANDARD
TZOFFSETFROM:-0300
TZOFFSETTO:-0400
TZNAME:AST
DTSTART:20231105T050000
END:STANDARD
END:VTIMEZONE
BEGIN:VEVENT
DTSTART;TZID=America/Halifax:20220921T170000
DTEND;TZID=America/Halifax:20220923T183000
DTSTAMP:20260424T092414
CREATED:20221019T230720Z
LAST-MODIFIED:20260205T191811Z
UID:20221-1663779600-1663957800@setf.ngo
SUMMARY:Panel: The Caesar File & Road to Justice in Syria
DESCRIPTION:About this event \nThe Syrian Emergency Task Force (SETF)\, in partnership with the University of Arkansas in Little Rock (UALR)\, is hosting a three-day Caesar exhibit from September 21 to 23\, 2022\, on documented human rights atrocities and mass graves in Syria. \nThe Caesar Exhibit is a traveling exhibit that showcases 30 photographs of the 55\,000 smuggled out of Syria by a former Syrian military photographer\, pseudonym “Caesar\,” documenting the brutal torture of thousands of men\, women\, and children by the Assad regime inside its prisons. Caesar’s photos constitute first-hand documentation of the scale and brutality of the atrocities perpetrated by the Assad regime. They have been verified by the FBI’s International Human Rights Unit (IHRU). These photographs and other documents\, known as the “Caesar files”\, currently serve as key evidence in many prosecution cases against members of the Assad regime. \nThe Caesar exhibit will be concluded by a panel of experts on Friday\, September 23\, 2022\, at 5 pm. The panelists will discuss a range of topics related to justice and accountability concerning the Caesar files. \nPanelists: \n\nCongressman French Hill\, U.S. Rep. for Arkansas’s 2nd Congressional District\nMouaz Moustafa\, Executive Director\, Syrian Emergency Task Force\nOmar Alshogre\, Syrian activist and former political detainee\n\nAddress: \nWindgate Center for Art & Design\, UA Little Rock\, 5660 W. 28th Street\, Little Rock\, AR 72204
URL:https://setf.ngo/events/panel-the-caesar-file-road-to-justice-in-syria/
LOCATION:SETF\, Windgate Center for Art & Design\, UA Little Rock\, 5660 W. 28th Street\, Little Rock\, AR 72204\, WA\, 72204\, United States
CATEGORIES:Accountability
ATTACH;FMTTYPE=image/jpeg:https://setf.ngo/wp-content/uploads/2022/10/PANEL.jpeg
END:VEVENT
END:VCALENDAR