BEGIN:VCALENDAR
VERSION:2.0
PRODID:-//SETF - ECPv6.15.20//NONSGML v1.0//EN
CALSCALE:GREGORIAN
METHOD:PUBLISH
X-ORIGINAL-URL:https://setf.ngo
X-WR-CALDESC:Events for SETF
REFRESH-INTERVAL;VALUE=DURATION:PT1H
X-Robots-Tag:noindex
X-PUBLISHED-TTL:PT1H
BEGIN:VTIMEZONE
TZID:America/Halifax
BEGIN:DAYLIGHT
TZOFFSETFROM:-0400
TZOFFSETTO:-0300
TZNAME:ADT
DTSTART:20210314T060000
END:DAYLIGHT
BEGIN:STANDARD
TZOFFSETFROM:-0300
TZOFFSETTO:-0400
TZNAME:AST
DTSTART:20211107T050000
END:STANDARD
BEGIN:DAYLIGHT
TZOFFSETFROM:-0400
TZOFFSETTO:-0300
TZNAME:ADT
DTSTART:20220313T060000
END:DAYLIGHT
BEGIN:STANDARD
TZOFFSETFROM:-0300
TZOFFSETTO:-0400
TZNAME:AST
DTSTART:20221106T050000
END:STANDARD
BEGIN:DAYLIGHT
TZOFFSETFROM:-0400
TZOFFSETTO:-0300
TZNAME:ADT
DTSTART:20230312T060000
END:DAYLIGHT
BEGIN:STANDARD
TZOFFSETFROM:-0300
TZOFFSETTO:-0400
TZNAME:AST
DTSTART:20231105T050000
END:STANDARD
END:VTIMEZONE
BEGIN:VEVENT
DTSTART;TZID=America/Halifax:20220405T110000
DTEND;TZID=America/Halifax:20220405T150000
DTSTAMP:20260424T175701
CREATED:20221019T233746Z
LAST-MODIFIED:20260205T191906Z
UID:20255-1649156400-1649170800@setf.ngo
SUMMARY:On Crimes Against Humanity: SETF at Miami
DESCRIPTION:Join us in Miami on April 5 for an event hosted by the American Museum of Cuban Diaspora and sponsored by the Syrian Emergency Task Force\, International Justice Cuba Commission and the Assembly of the Cuban Resistance.  \n\n\n\n\nTo watch live – https://youtu.be/kVR9pHJY7go \n\n\n\n\nFeaturing a panel on the plight of the oppressed people of Cuba\, Nicaragua\, Syria\, Ukraine and Venezuela. \nSpeakers include: \nAmbassador Stephen Rapp\, Lead Prosecutor of the Rwanda Tribunal \nRene Bolio\, President of the Mexican Commission for Human Rights & the International Justice Cuba Commission \nMouaz Moustafa\, SETF Executive Director \nOmar Alshogre\, Syria Human Rights Activist \nMichael Sawkiw\, Ukrainian Congress Committee of America \n 
URL:https://setf.ngo/events/on-crimes-against-humanity-setf-at-miami/
LOCATION:American Museum of the Cuban Diaspora1200 Coral WayMiami\, FL\, 33145 United States
CATEGORIES:Accountability
ATTACH;FMTTYPE=image/png:https://setf.ngo/wp-content/uploads/2022/10/tempImageUlAwH2.png
END:VEVENT
BEGIN:VEVENT
DTSTART;TZID=America/Halifax:20220425T180000
DTEND;TZID=America/Halifax:20220425T193000
DTSTAMP:20260424T175701
CREATED:20221019T233440Z
LAST-MODIFIED:20260205T191854Z
UID:20239-1650909600-1650915000@setf.ngo
SUMMARY:Marquette University: Caesar Exhibit and Panel Discussion
DESCRIPTION:SETF is excited to bring the Caesar Exhibit to Marquette University on Monday\, April 25th. The exhibit will open at 6:00pm central followed by a panel discussion with our very own Mouaz Moustafa and Omar Alshogre. Iftar will follow the event that evening. \nThe event will be livestreamed on SETF’s Facebook and Instagram pages. \nTo RSVP visit – MSAMarquette.com \nMonday\, April 25\, 2022 6:00 PM  7:30 PM \nMarquette University1250 West Wisconsin AvenueMilwaukee\, WI\, 53233United States
URL:https://setf.ngo/events/marquette-university/
CATEGORIES:Accountability
ATTACH;FMTTYPE=image/jpeg:https://setf.ngo/wp-content/uploads/2022/10/April25th6pmAMUBallrooms.jpeg
END:VEVENT
BEGIN:VEVENT
DTSTART;TZID=America/Halifax:20220430T140000
DTEND;TZID=America/Halifax:20220430T150000
DTSTAMP:20260424T175701
CREATED:20221019T232710Z
LAST-MODIFIED:20260205T191836Z
UID:20235-1651327200-1651330800@setf.ngo
SUMMARY:Giving on Eid for a Free Syria
DESCRIPTION:Join us for our virtual fundraising event “Giving on Eid for a Free Syria” on April 30th at 2:00 pm EST. The event will include remarks from our team leaders on the ground\, Syrian Canadian actress Yara Sabry\, and Syrian human rights activist Omar Alshogre. \nSyrian Emergency Task Force1455 Pennsylvania Ave. Suite 439Washington
URL:https://setf.ngo/events/eidforsyria/
LOCATION:SETF\, Windgate Center for Art & Design\, UA Little Rock\, 5660 W. 28th Street\, Little Rock\, AR 72204\, WA\, 72204\, United States
CATEGORIES:Humanitarian
ATTACH;FMTTYPE=image/jpeg:https://setf.ngo/wp-content/uploads/2022/10/setfevent.jpg
END:VEVENT
END:VCALENDAR