BEGIN:VCALENDAR
VERSION:2.0
PRODID:-//SETF - ECPv6.15.20//NONSGML v1.0//EN
CALSCALE:GREGORIAN
METHOD:PUBLISH
X-ORIGINAL-URL:https://setf.ngo
X-WR-CALDESC:Events for SETF
REFRESH-INTERVAL;VALUE=DURATION:PT1H
X-Robots-Tag:noindex
X-PUBLISHED-TTL:PT1H
BEGIN:VTIMEZONE
TZID:Europe/Moscow
BEGIN:STANDARD
TZOFFSETFROM:+0300
TZOFFSETTO:+0300
TZNAME:MSK
DTSTART:20200101T000000
END:STANDARD
END:VTIMEZONE
BEGIN:VEVENT
DTSTART;TZID=Europe/Moscow:20211215T100000
DTEND;TZID=Europe/Moscow:20211217T160000
DTSTAMP:20260425T001833
CREATED:20221020T001201Z
LAST-MODIFIED:20260205T191939Z
UID:20273-1639562400-1639756800@setf.ngo
SUMMARY:SETF at Leiden University
DESCRIPTION:Join us from the 15-17 of December at Wijnhaven in the front room 2.60 from 10:00-16:00for our Caesar Photo Exhibit. On the 16th of December do not miss the opportunity to watch the award winning 2019 documentary film produced and narrated by Waad Al-Kateab\, and directed by Waad Al-Kateab and Edward Watts. The film focuses on Waad Al-Kateab’s journey as a journalist and rebel in the Syrian uprising. This screening will be held at Wijnhaven lecture hall 2.01 at 17:00.
URL:https://setf.ngo/events/setf-at-the-hague/
LOCATION:The Hague TurfmarktDen Haag\, ZH\, 2511 CANetherlands
CATEGORIES:Advocacy
END:VEVENT
END:VCALENDAR