BEGIN:VCALENDAR
VERSION:2.0
PRODID:-//SETF - ECPv6.15.20//NONSGML v1.0//EN
CALSCALE:GREGORIAN
METHOD:PUBLISH
X-WR-CALNAME:SETF
X-ORIGINAL-URL:https://setf.ngo
X-WR-CALDESC:Events for SETF
REFRESH-INTERVAL;VALUE=DURATION:PT1H
X-Robots-Tag:noindex
X-PUBLISHED-TTL:PT1H
BEGIN:VTIMEZONE
TZID:America/Halifax
BEGIN:DAYLIGHT
TZOFFSETFROM:-0400
TZOFFSETTO:-0300
TZNAME:ADT
DTSTART:20200308T060000
END:DAYLIGHT
BEGIN:STANDARD
TZOFFSETFROM:-0300
TZOFFSETTO:-0400
TZNAME:AST
DTSTART:20201101T050000
END:STANDARD
BEGIN:DAYLIGHT
TZOFFSETFROM:-0400
TZOFFSETTO:-0300
TZNAME:ADT
DTSTART:20210314T060000
END:DAYLIGHT
BEGIN:STANDARD
TZOFFSETFROM:-0300
TZOFFSETTO:-0400
TZNAME:AST
DTSTART:20211107T050000
END:STANDARD
BEGIN:DAYLIGHT
TZOFFSETFROM:-0400
TZOFFSETTO:-0300
TZNAME:ADT
DTSTART:20220313T060000
END:DAYLIGHT
BEGIN:STANDARD
TZOFFSETFROM:-0300
TZOFFSETTO:-0400
TZNAME:AST
DTSTART:20221106T050000
END:STANDARD
BEGIN:DAYLIGHT
TZOFFSETFROM:-0400
TZOFFSETTO:-0300
TZNAME:ADT
DTSTART:20230312T060000
END:DAYLIGHT
BEGIN:STANDARD
TZOFFSETFROM:-0300
TZOFFSETTO:-0400
TZNAME:AST
DTSTART:20231105T050000
END:STANDARD
END:VTIMEZONE
BEGIN:VTIMEZONE
TZID:Europe/Moscow
BEGIN:STANDARD
TZOFFSETFROM:+0300
TZOFFSETTO:+0300
TZNAME:MSK
DTSTART:20200101T000000
END:STANDARD
END:VTIMEZONE
BEGIN:VEVENT
DTSTART;TZID=America/Halifax:20220315T163000
DTEND;TZID=America/Halifax:20220315T183000
DTSTAMP:20260422T043212
CREATED:20221019T234545Z
LAST-MODIFIED:20260211T203152Z
UID:20261-1647361800-1647369000@setf.ngo
SUMMARY:Freedom for the Forgotten
DESCRIPTION:Thank you to everyone who attended SETF’s event in Congress marking the 11th Anniversary of the Syrian Revolution. If you were not able to watch\, a recording of the event can be found below.  \n“Freedom for the Forgotten” \n\n\n\n\n\nThis year marks the eleventh anniversary since the beginning of the Syrian revolution. Over the past 11 years\, the Syrian government and its enablers have committed some of the worst crimes of the 21st century. More than 13 million Syrians have been displaced\, at least 580\,000 have been killed and\, by conservative estimates\, over 130\,000 have been arbitrarily detained or disappeared. \n At a time when some contemplate normalizing relations with this criminal regime\, the aim of this event is to remind policymakers\, journalists\, and others of the ongoing mass atrocities in Syria\, generate a clear path forward to relieve the suffering of the Syrian people\, and bring awareness of their plight. \nSpeakers include the leaders of the House Foreign Affairs Committee and the Senate Foreign Relations Committee\, the co-chairs of the Syria Caucus\, Ambassador Stephen Rapp\, Holocaust survivor Al Münzer\, and Holocaust Museum leadership\, as well as a letter from the “Gravedigger” – a witness to mass graves in Syria from 2011–2017. Additionally\, survivors of detention centers in Syria will share their stories.
URL:https://setf.ngo/events/freedom-for-the-forgotten/
LOCATION:SETF\, Windgate Center for Art & Design\, UA Little Rock\, 5660 W. 28th Street\, Little Rock\, AR 72204\, WA\, 72204\, United States
CATEGORIES:Advocacy
END:VEVENT
BEGIN:VEVENT
DTSTART;TZID=Europe/Moscow:20220310T080000
DTEND;TZID=Europe/Moscow:20220316T180000
DTSTAMP:20260422T043212
CREATED:20221019T234833Z
LAST-MODIFIED:20260205T191919Z
UID:20264-1646899200-1647453600@setf.ngo
SUMMARY:Silent Auction
DESCRIPTION:Join us for a virtual silent auction benefiting the Syrian Emergency Task Force on the 11th anniversary of the Syrian Revolution. \nBid on items from the Wisdom House Kindergarten\, Tomorrow’s Dawn Women’s Center\, and donors across the world all while raising awareness of the horrific atrocities taking place in Syria each day. \n\n\n\n\nSee items like those below and more! Additional information to come. \nVisit this link to place your bid! http://32auctions.com/freedomfortheforgotten
URL:https://setf.ngo/events/silentauction/
LOCATION:SETF\, Windgate Center for Art & Design\, UA Little Rock\, 5660 W. 28th Street\, Little Rock\, AR 72204\, WA\, 72204\, United States
CATEGORIES:Advocacy
ATTACH;FMTTYPE=image/jpeg:https://setf.ngo/wp-content/uploads/2022/10/FullSizeRender.jpg
END:VEVENT
BEGIN:VEVENT
DTSTART;TZID=America/Halifax:20220306T140000
DTEND;TZID=America/Halifax:20220306T170000
DTSTAMP:20260422T043212
CREATED:20221020T000747Z
LAST-MODIFIED:20260205T191928Z
UID:20267-1646575200-1646586000@setf.ngo
SUMMARY:Syria Policy Fireside Chat
DESCRIPTION:Learn about the latest policy updates from Syria experts and advocates from Washington D.C. and how you can make a difference in Michigan. \n\n\n\n\nSign up here: http://syriapolicyfiresidechat.eventbrite.com?s=172517399 \n\n\n\n\nSpeakers include: \nMouaz Moustafa\, SETF’s Executive Director \nOmar Alshogre\, Former Detainee and Human Rights Activist \nQutaiba Idlibi\, Representative to the US for the Syrian Opposition Coalition \n 
URL:https://setf.ngo/events/syria-policy-fireside-chat/
LOCATION:Muslim Unity Center1830 West Square Lake RoadBloomfield Township\, MI\, 48302 United States
CATEGORIES:Advocacy
ATTACH;FMTTYPE=image/jpeg:https://setf.ngo/wp-content/uploads/2022/10/WhatsAppImage2022-03-01at8.31.02PM.jpeg
END:VEVENT
BEGIN:VEVENT
DTSTART;TZID=Europe/Moscow:20211215T100000
DTEND;TZID=Europe/Moscow:20211217T160000
DTSTAMP:20260422T043212
CREATED:20221020T001201Z
LAST-MODIFIED:20260205T191939Z
UID:20273-1639562400-1639756800@setf.ngo
SUMMARY:SETF at Leiden University
DESCRIPTION:Join us from the 15-17 of December at Wijnhaven in the front room 2.60 from 10:00-16:00for our Caesar Photo Exhibit. On the 16th of December do not miss the opportunity to watch the award winning 2019 documentary film produced and narrated by Waad Al-Kateab\, and directed by Waad Al-Kateab and Edward Watts. The film focuses on Waad Al-Kateab’s journey as a journalist and rebel in the Syrian uprising. This screening will be held at Wijnhaven lecture hall 2.01 at 17:00.
URL:https://setf.ngo/events/setf-at-the-hague/
LOCATION:The Hague TurfmarktDen Haag\, ZH\, 2511 CANetherlands
CATEGORIES:Advocacy
END:VEVENT
BEGIN:VEVENT
DTSTART;TZID=America/Halifax:20211017T140000
DTEND;TZID=America/Halifax:20211017T143000
DTSTAMP:20260422T043212
CREATED:20221020T001433Z
LAST-MODIFIED:20221020T001433Z
UID:20277-1634479200-1634481000@setf.ngo
SUMMARY:Hope Rising
DESCRIPTION:Celebrate this school year and journey of the Wisdom House Project. Hear from our teachers in Syria directly and learn the story of the year and the impact that our community makes while helping us raise money to continue our mission. \nSpeakers: \nRasha Alshahad: Rasha is the founder of Tomorrow’s Dawn womens’ center in Syria as well as a vocational instructor. \nJerry Adams-Founder of the Wisdom House Project \nNicki Stephenson-Events and Logistics Coordinator \nMouaz Moustafa-Executive Director of the Syrian Emergency Task Force \nAmy Walker-Teacher in Arkansas
URL:https://setf.ngo/events/hoperising/
CATEGORIES:Advocacy
ATTACH;FMTTYPE=image/jpeg:https://setf.ngo/wp-content/uploads/2022/10/PHOTO-2021-05-13-16-28-1721.jpg
END:VEVENT
END:VCALENDAR