BEGIN:VCALENDAR
VERSION:2.0
PRODID:-//SETF - ECPv6.15.20//NONSGML v1.0//EN
CALSCALE:GREGORIAN
METHOD:PUBLISH
X-ORIGINAL-URL:https://setf.ngo
X-WR-CALDESC:Events for SETF
REFRESH-INTERVAL;VALUE=DURATION:PT1H
X-Robots-Tag:noindex
X-PUBLISHED-TTL:PT1H
BEGIN:VTIMEZONE
TZID:Europe/Moscow
BEGIN:STANDARD
TZOFFSETFROM:+0300
TZOFFSETTO:+0300
TZNAME:MSK
DTSTART:20220101T000000
END:STANDARD
END:VTIMEZONE
BEGIN:VTIMEZONE
TZID:America/New_York
BEGIN:DAYLIGHT
TZOFFSETFROM:-0500
TZOFFSETTO:-0400
TZNAME:EDT
DTSTART:20220313T070000
END:DAYLIGHT
BEGIN:STANDARD
TZOFFSETFROM:-0400
TZOFFSETTO:-0500
TZNAME:EST
DTSTART:20221106T060000
END:STANDARD
BEGIN:DAYLIGHT
TZOFFSETFROM:-0500
TZOFFSETTO:-0400
TZNAME:EDT
DTSTART:20230312T070000
END:DAYLIGHT
BEGIN:STANDARD
TZOFFSETFROM:-0400
TZOFFSETTO:-0500
TZNAME:EST
DTSTART:20231105T060000
END:STANDARD
BEGIN:DAYLIGHT
TZOFFSETFROM:-0500
TZOFFSETTO:-0400
TZNAME:EDT
DTSTART:20240310T070000
END:DAYLIGHT
BEGIN:STANDARD
TZOFFSETFROM:-0400
TZOFFSETTO:-0500
TZNAME:EST
DTSTART:20241103T060000
END:STANDARD
END:VTIMEZONE
BEGIN:VTIMEZONE
TZID:Europe/Istanbul
BEGIN:STANDARD
TZOFFSETFROM:+0300
TZOFFSETTO:+0300
TZNAME:+03
DTSTART:20220101T000000
END:STANDARD
END:VTIMEZONE
BEGIN:VTIMEZONE
TZID:UTC
BEGIN:STANDARD
TZOFFSETFROM:+0000
TZOFFSETTO:+0000
TZNAME:UTC
DTSTART:20230101T000000
END:STANDARD
END:VTIMEZONE
BEGIN:VTIMEZONE
TZID:America/New_York
BEGIN:DAYLIGHT
TZOFFSETFROM:-0500
TZOFFSETTO:-0400
TZNAME:EDT
DTSTART:20250309T070000
END:DAYLIGHT
BEGIN:STANDARD
TZOFFSETFROM:-0400
TZOFFSETTO:-0500
TZNAME:EST
DTSTART:20251102T060000
END:STANDARD
BEGIN:DAYLIGHT
TZOFFSETFROM:-0500
TZOFFSETTO:-0400
TZNAME:EDT
DTSTART:20260308T070000
END:DAYLIGHT
BEGIN:STANDARD
TZOFFSETFROM:-0400
TZOFFSETTO:-0500
TZNAME:EST
DTSTART:20261101T060000
END:STANDARD
BEGIN:DAYLIGHT
TZOFFSETFROM:-0500
TZOFFSETTO:-0400
TZNAME:EDT
DTSTART:20270314T070000
END:DAYLIGHT
BEGIN:STANDARD
TZOFFSETFROM:-0400
TZOFFSETTO:-0500
TZNAME:EST
DTSTART:20271107T060000
END:STANDARD
END:VTIMEZONE
BEGIN:VEVENT
DTSTART;VALUE=DATE:20230307
DTEND;VALUE=DATE:20230308
DTSTAMP:20260424T011736
CREATED:20230306T165800Z
LAST-MODIFIED:20260205T191421Z
UID:22339-1678147200-1678233599@setf.ngo
SUMMARY:Ordinary Civilians\, Extraordinary Acts: Syrian Responses to Mass Atrocities
DESCRIPTION:Twelve years after the start of the Syrian crisis\, civilians continue to suffer mass atrocities. Areas of the country remain under attack by the Syrian government and its allies\, and more than 100\,000 people have been detained or disappeared. The devastating earthquake of early February struck people in Syria and Turkey who had previously fled mass atrocities. In the case of northwest Syria\, the impact and aftermath of the earthquake placed an incredible burden on civil society actors to scramble to the rescue—the same groups who for years have rescued victims of mass atrocities. \nJoin the Museum’s Simon-Skjodt Center for the Prevention of Genocide for a conversation with Syrian civil society leaders who are spearheading the charge to protect civilians and hold perpetrators of mass atrocities accountable. Experts will discuss how Syrians\, especially Syrian women\, are responding to mass atrocities today\, and how the world can best support them. \nRemarks\nAlfred Münzer\, Holocaust Survivor and Volunteer\, United States Holocaust Memorial Museum \nSenator James Risch\, Ranking Member\, Senate Foreign Relations Committee \nRepresentative French Hill\, House Foreign Affairs Committee \nEthan Goldrich\, Deputy Assistant Secretary of State for Near Eastern Affairs\, United States Department of State \nAmbassador (Ret.) Stephen Rapp\, Former Ambassador-at-Large for Global Criminal Justice\, United States Department of State \nAdditional Members of Congress to be confirmed. \nPanel Discussion\nMayson Almisri\, Syria Civil Defence (The White Helmets) \nNatasha Hall\, Senior Fellow\, Middle East Program\, Center for Strategic and International Studies \nCeline Kassem\, Media Coordinator\, Syrian Emergency Task Force \nNaomi Kikoler\, Director\, Simon-Skjodt Center for the Prevention of Genocide\, United States Holocaust Memorial Museum \nThis program is free and open to the public\, but registration is required. \nFor more information\, please contact genocideprevention@ushmm.org. \nRegister Today
URL:https://setf.ngo/events/ordinary-civilians-extraordinary-acts-syrian-responses-to-mass-atrocities/
LOCATION:United States Holocaust Memorial Museum 100 Raoul Wallenberg Place\, SW Washington\, DC 20024 United States
CATEGORIES:Advocacy
END:VEVENT
BEGIN:VEVENT
DTSTART;TZID=Europe/Moscow:20230329T170000
DTEND;TZID=Europe/Moscow:20230329T190000
DTSTAMP:20260424T011736
CREATED:20230317T181901Z
LAST-MODIFIED:20260205T191700Z
UID:22378-1680109200-1680116400@setf.ngo
SUMMARY:DOCUMENTING TERROR IN SYRIA: WHAT IS THE IMPACT OF PHOTOS?
DESCRIPTION:PSIA is honored to host the first-ever exhibition of the Caesar photos in France: Inside Syrian Regime’s Prisons (27 to 31 March) and organize a panel discussion on Documenting Terror in Syria: What is the Impact of Photos? (29 March) \nDocumenting Terror in Syria: What is the Impact of Photos?\nWednesday 29 March\, 5:00 to 7:00 pm \nAmphi Chapsal\, 27 rue Saint-Guillaume \n\nRegistration for internal guests\nRegistration for external guests\n\nPrisons have played a key role in maintaining the al-Assad regime in Syria. Since 2011\, it is estimated that over 200 000 people have suffered arbitrary detention and experienced torture in these prisons\, resulting in tens of thousands of extrajudiciary executions. \nIn 2014\, a former official photographer and anonymous defector “Caesar” leaked some 55 000 pictures\, which have been of crucial importance to fight a culture of impunity. These photos were shown to the United Nations Security Council with the objective of prosecuting the Syrian regime for crimes against humanity. \nThis roundtable will reflect on the power of images and their role in fighting for justice in Syria and beyond. Based on their experience as human rights defenders and legal experts\, the speakers will discuss the impact of images in shaping public\, judicial and political discourses in times of conflict. The event will also explore the conditions under which to rebuild societies torn by violence and whether there can ever be peace without justice. \nWelcome Remarks by Arancha Gonzalez\, Dean of PSIA \nIntroduction and moderation by Céline Cantat\, lecturer\, PSIA \nGuest speakers: \n\nClémence Bectarte\, Lawyer\, Coordinator of FIDH’s Litigation Action Group\nMazen Darwich\, Syrian human rights lawyer (via zoom)\nMouaz Moustafa\, Executive Director\, Syrian Emergency Task Force\n\nInside Syrian Regime’s Prisons\nCaesar is a former military photographer and anonymous defector who was conscripted by the Assad regime to take pictures of people who died while being detained in military and intelligence branches. When he noticed that Syrian civilians were being tortured and killed\, he began to amass photographic evidence of such atrocities. Between 2011 and 2013\, Caesar collected more than 55\,000 photos\, which were exfiltrated from Syria. Today\, “The Caesar Files” constitute first-hand documentation of the scale and brutality of the atrocities perpetrated by the Assad regime. \nTRIGGER WARNING: Viewers should be made aware that the photos presented in the exhibit are graphic and disturbing. They depict in an unfiltered way the torture and mass killings the prisoners experienced in the Syrian prisons. Viewers discretion is advised. \nOpening Hours: \nThe photo exhibit will be open to the Sciences Po community (upon presentation of a Sciences Po ID and without registration) from Monday 27 March to Friday 31 March\, from 10:00 am to 6:00 pm ; and until 9:00 pm on Wednesday 29 March. \nIn addition it will be open to the general public (upon registration and within space capacity) on the following dates: Wednesday 29 March from 3:00 pm to 5:00 pm\, and from 7:00 pm to 9:00 pm ; Thursday 30 March from 2:00 pm to 6:00 pm. \nGuided visits will be led by Omar Alshogre\, Syrian human rights defender and former political prisoner on Wednesday 29 March at 4:15pm and at 7:30 pm\, and on Thursday 30 March at 2:45 pm and 5:00 pm. Open to both the Sciences Po community and the general public upon registration and within space capacity. \nRoom B104\, 1 place Saint-Thomas \n\nRegistration for internal guests for guided visits\nRegistration for external guests for the exhibition and for guided visits\nEvent’s Zoom link\n\nThe photo exhibit is co-organized with the Syrian Emergency Task Force.
URL:https://setf.ngo/events/documenting-terror-in-syria-what-is-the-impact-of-photos/
CATEGORIES:Advocacy
END:VEVENT
BEGIN:VEVENT
DTSTART;TZID=America/New_York:20230403T173000
DTEND;TZID=America/New_York:20230403T200000
DTSTAMP:20260424T011736
CREATED:20230328T111248Z
LAST-MODIFIED:20260205T191631Z
UID:22575-1680543000-1680552000@setf.ngo
SUMMARY:Justice after War Crimes: From Syria to Ukraine
DESCRIPTION:Stephen J. Rapp is a Senior Fellow at the United States Holocaust Memorial Museum’s Center for Prevention of Genocide\, and at Oxford University’s Center for Law\, Ethics and Armed Conflict. During 2017-2018\, he was the Father Robert Drinan Visiting Professor for Human Rights at Georgetown University. He serves as Chair of the Commission for International Justice and Accountability (CIJA)\, a Senior Peace Fellow of the Public International Law and Policy Group\, and on the boards of Physicians for Human Rights\, the Syrian Emergency Task Force\, the IBA Human Rights Institute\, the ABA Rule of Law Initiative\, the Siracusa International Institute for Criminal Justice and Human Rights\, Guernica 37\, and the Center for International Law and Policy in Africa (CILPA). \nDr. Daniel Edquist-Whelan\, Professor of Politics at Hendrix\, will serve as a moderator for the talk. \nRapp’s appearance is underwritten\, in part\, by the W.C. Buthman Endowed Visiting Scholar and Lectureship Program at Hendrix College. \nFor more information or questions about Rapp’s appearance\, contact Dr. Kiril Kolev\, Associate Provost for Engaged Learning at Hendrix\, at kolev@hendrix.edu or 501.450.1236.
URL:https://setf.ngo/events/justice-after-war-crimes-from-syria-to-ukraine/
CATEGORIES:Advocacy
ATTACH;FMTTYPE=image/jpeg:https://setf.ngo/wp-content/uploads/2023/03/Screenshot-2023-03-28-141222.jpg
END:VEVENT
BEGIN:VEVENT
DTSTART;TZID=Europe/Istanbul:20230806T190000
DTEND;TZID=Europe/Istanbul:20230806T200000
DTSTAMP:20260424T011736
CREATED:20230805T062610Z
LAST-MODIFIED:20260205T191617Z
UID:23531-1691348400-1691352000@setf.ngo
SUMMARY:Together for Syria
DESCRIPTION:English/عربي \nJoin us Saturday\, August 5th (English session) or August 6 (Arabic session) at 12 PM EST for a virtual fundraising event for breaking the siege on the Rukban IDP camp in southern Syria and our House of Healing rehabilitation center in Turkey. \nThis is an opportunity to learn more about SETF’s work and impact on the ground\, the importance of breaking the siege\, and SETF’s continuous commitment to providing relief for Rukban internally displaced persons in southern Syria and our patients in Turkey. \nThis year we broke the 8-year-long siege on Rukban camp through our Operation Syrian Oasis\, which was entirely funded by individual donors like yourself. Come learn and be part of this monumental humanitarian effort. \nLearn more at SETF.NGO \n\nMeet and chat with our team:\nMouaz Moustaf\, SETF Executive Director\nOmar Alshogre\, SETF Director of Detainee Affairs\nCeline Kassem\, SETF Media Director\n\nAttendees will have the opportunity to chat with our team and donate to our humanitarian efforts. \nLearn more about breaking the Rukban siege operation \nhttps://setf.ngo/breaking-the-siege-operation-syria-oasis/ \nLearn more about the House of Healing \nHouse of Healing \n \n\nنضم إلينا يوم السبت 5 آب (جلسة باللغة الانكليزية) أو 6 أغسطس (جلسة باللغة العربية) الساعة 12 مساءً EST لحضور حدث افتراضي لجمع التبرعات لكسر الحصار عن مخيم النازحين في مخيم الركبان في جنوب سوريا، ومركزنا لإعادة التأهيل “بيت الشفاء” في تركيا. \nهذه فرصة للتعرف أكثر على عمل المنظمة السورية للطوارئ (SETF) وتأثيرها على الأرض، وأهمية كسر الحصار، والالتزام المستمر لـSETF في تقديم المساعدة للأشخاص النازحين داخلياً في مخيم الركبان في جنوب سوريا ولأجل مرضانا في تركيا. \nهذا العام تمكنا من كسر الحصار الذي دام لمدة 8 سنوات عن مخيم الركبان من خلال عملية “واحة سوريا” التي تم تمويلها بالكامل من قبل المتبرعين أمثالك. تعال وتعلم وكن جزءًا من هذا الجهد الإنساني الضخم. \nتعرف أكثر على المزيد على SETF.NGO \nتعرف وتحدث مع فريقنا: \n\nمعاذ مصطفى، المدير التنفيذي للمنظمة السوري للطوارئ (SETF)\nعمر الشغري، مدير شؤون المعتقلين في المنظمة السورية للطوارئ(SETF)\nسيلين قاسم، مدير الإعلام في المنظمة السورية للطوارئ (SETF)\n\nسيتاح للحضور فرصة التحدث مع فريقنا والتبرع للجهود الإنسانية. \nالتبرع لصالح بيت الشفاء\nالتبرع لصالح حملة كسر الحصار عن مخيم الركبان
URL:https://setf.ngo/events/together-for-syria/
CATEGORIES:Donation
ATTACH;FMTTYPE=image/jpeg:https://setf.ngo/wp-content/uploads/2023/08/WhatsApp-Image-2023-08-04-at-12.13.14.jpg
END:VEVENT
BEGIN:VEVENT
DTSTART;TZID=UTC:20240330T190000
DTEND;TZID=UTC:20240330T210000
DTSTAMP:20260424T011737
CREATED:20240323T144350Z
LAST-MODIFIED:20260205T191525Z
UID:25987-1711825200-1711832400@setf.ngo
SUMMARY:Imagine One Day of Ramadan in Syria
DESCRIPTION:Please join Saturday\, March 30th at 3:00 PM EST for for a conversation about Syria and hear directly from the leaders of our humanitarian programs benefiting internally-displaced Syrians including: The Wisdom House Kindergarten\, Tomorrow’s Dawn High School for Women and Girls\, the House of Healing shelter for patients receiving medical treatment\, and Hope Pharmacy in Rukban Camp. \n  \nClick Here to RSVP: https://pp.events/ramadan_setf_2024 \nLearn more about our 2024 Ramadan Campaign: https://setf.ngo/ramadan-2024/
URL:https://setf.ngo/events/imagine-one-day-of-ramadan-in-syria/
CATEGORIES:Donation
ATTACH;FMTTYPE=image/jpeg:https://setf.ngo/wp-content/uploads/2024/03/download-2.jpg
END:VEVENT
BEGIN:VEVENT
DTSTART;TZID=America/New_York:20260412T150000
DTEND;TZID=America/New_York:20260412T160000
DTSTAMP:20260424T011737
CREATED:20260220T163554Z
LAST-MODIFIED:20260408T085953Z
UID:31464-1776006000-1776009600@setf.ngo
SUMMARY:For Syria’s Future
DESCRIPTION:Virtual Fundraiser | Sunday\, April 12\, 2026\n3:00 PM ET / 2:00 PM CT \nJoin the event directly using this ZOOM LINK: https://us02web.zoom.us/j/82114760581 \n  \nOne year after liberation\, Syrians are working to rebuild homes\, schools\, communities\, and a democratic future. SETF is helping lead these efforts\, and your contribution provides direct\, measurable impact at a historic moment. \nRegister using the form linked below. it’s free and open to everyone. \nRegister\n \n  \nIf you can’t attend\, you can still support Syria with a meaningful gift. \nDonate\n \n\n  \nWhy Your Support Matters Right Now\nThis fundraiser directly fuels SETF’s most urgent work on the ground: \n\nEducation for Women and Children: Providing safe classrooms and life-changing opportunities through Wisdom House Kindergarten and Tomorrow’s Dawn High School.\nJustice and Accountability: Documenting mass graves\, supporting survivors\, and advancing justice in partnership with Syria’s new institutions.\nDe-mining and Protection: Clearing landmines that prevent families from returning home and rebuilding safely.\nCommunity Rebuilding and Humanitarian Relief: Restoring schools\, homes\, and essential services and helping families rebuild after years of displacement and war.\n\nThese programs save lives\, open doors\, and build a new foundation for Syria’s long-term recovery. \n\n  \nAbout the Virtual Event\nThis online event will bring together Syrian leaders\, humanitarian experts\, survivors\, and global supporters. \nYou will hear: \n\n Updates from inside Syria\n What has changed in the year since liberation\n How justice and recovery work are progressing\n How your support sustains education and humanitarian programs\n What the next phase of rebuilding will require\n\nBecause it is virtual\, you can join from anywhere in the world. \nYour participation and your gift are both essential. \n\n  \nSyria Is in Transition\nSyria is in a fragile but hopeful new chapter. Families are returning home. Children are learning again. Communities are organizing freely. \n  \nHope has returned\, but the work ahead is enormous. \n  \nYour generosity helps Syrians rebuild their country with dignity and safety. \n  \nYour registration helps grow awareness and solidarity. \n  \nTogether\, they create real change. \n\n  \nREGISTER OR DONATE TODAY\nWe hope you’ll join us for this important online event and stand with the Syrian people at this pivotal moment. \nRegister here. You will receive a Zoom link in your email before the event. \nIf you are unable to attend or would like to give now\, please make a donation here \n  \nThank you for standing with Syria during this defining moment of recovery.
URL:https://setf.ngo/events/for-syria/
ATTACH;FMTTYPE=image/jpeg:https://setf.ngo/wp-content/uploads/2026/02/IMG_7798.jpg
END:VEVENT
END:VCALENDAR